BEGIN:VCALENDAR
VERSION:2.0
PRODID:-//wp-events-plugin.com//7.2.3.1//EN
TZID:Europe/Berlin
X-WR-TIMEZONE:Europe/Berlin
BEGIN:VEVENT
UID:7-68@gesangscoach-berlin.de
DTSTART;TZID=Europe/Berlin:20261121T110000
DTEND;TZID=Europe/Berlin:20261121T130000
DTSTAMP:20260213T065438Z
URL:https://gesangscoach-berlin.de/events/gesangsworkshop-fuer-einsteiger-
 5/
SUMMARY:Gesangsworkshop für Einsteiger
DESCRIPTION:
ATTACH;FMTTYPE=image/jpeg:https://gesangscoach-berlin.de/wp-content/upload
 s/sites/7/2026/01/Gesangscoach-Berlin_Workshops-Gesang-Band1.jpg
CATEGORIES:Gesangs-Workshops
LOCATION:Unterrichtsraum 2. Stock\, Schwedenstr. 14\, Berlin\, 13357\, Deut
 schland
X-APPLE-STRUCTURED-LOCATION;VALUE=URI;X-ADDRESS=Schwedenstr. 14\, Berlin\, 
 13357\, Deutschland;X-APPLE-RADIUS=100;X-TITLE=Unterrichtsraum 2. Stock:ge
 o:0,0
END:VEVENT
BEGIN:VTIMEZONE
TZID:Europe/Berlin
X-LIC-LOCATION:Europe/Berlin
BEGIN:STANDARD
DTSTART:20261025T020000
TZOFFSETFROM:+0200
TZOFFSETTO:+0100
TZNAME:CET
END:STANDARD
END:VTIMEZONE
END:VCALENDAR