BEGIN:VCALENDAR
VERSION:2.0
PRODID:-//wp-events-plugin.com//7.2.3.1//EN
TZID:Europe/Berlin
X-WR-TIMEZONE:Europe/Berlin
BEGIN:VEVENT
UID:7-62@gesangscoach-berlin.de
DTSTART;TZID=Europe/Berlin:20260530T110000
DTEND;TZID=Europe/Berlin:20260530T130000
DTSTAMP:20260213T065438Z
URL:https://gesangscoach-berlin.de/events/singen-im-bandkontext-2/
SUMMARY:Singen im Bandkontext
DESCRIPTION:\n\n\n\n
ATTACH;FMTTYPE=image/jpeg:https://gesangscoach-berlin.de/wp-content/upload
 s/sites/7/2026/01/Gesangscoach-Berlin_Workshops-Gesang-Band5-e176796094927
 1.jpg
CATEGORIES:Gesangs-Workshops
LOCATION:Unterrichtsraum 2. Stock\, Schwedenstr. 14\, Berlin\, 13357\, Deut
 schland
X-APPLE-STRUCTURED-LOCATION;VALUE=URI;X-ADDRESS=Schwedenstr. 14\, Berlin\, 
 13357\, Deutschland;X-APPLE-RADIUS=100;X-TITLE=Unterrichtsraum 2. Stock:ge
 o:0,0
END:VEVENT
BEGIN:VTIMEZONE
TZID:Europe/Berlin
X-LIC-LOCATION:Europe/Berlin
BEGIN:DAYLIGHT
DTSTART:20260329T030000
TZOFFSETFROM:+0100
TZOFFSETTO:+0200
TZNAME:CEST
END:DAYLIGHT
END:VTIMEZONE
END:VCALENDAR